BEGIN:VCALENDAR
VERSION:2.0
PRODID:-//River Park Shopping - ECPv6.13.2.1//NONSGML v1.0//EN
CALSCALE:GREGORIAN
METHOD:PUBLISH
X-WR-CALNAME:River Park Shopping
X-ORIGINAL-URL:https://shopriverpark.com
X-WR-CALDESC:Events for River Park Shopping
REFRESH-INTERVAL;VALUE=DURATION:PT1H
X-Robots-Tag:noindex
X-PUBLISHED-TTL:PT1H
BEGIN:VTIMEZONE
TZID:America/Los_Angeles
BEGIN:DAYLIGHT
TZOFFSETFROM:-0800
TZOFFSETTO:-0700
TZNAME:PDT
DTSTART:20260308T100000
END:DAYLIGHT
BEGIN:STANDARD
TZOFFSETFROM:-0700
TZOFFSETTO:-0800
TZNAME:PST
DTSTART:20261101T090000
END:STANDARD
END:VTIMEZONE
BEGIN:VEVENT
DTSTART;TZID=America/Los_Angeles:20260424T190000
DTEND;TZID=America/Los_Angeles:20260424T220000
DTSTAMP:20260423T121425
CREATED:20260407T180429Z
LAST-MODIFIED:20260407T180429Z
UID:4486-1777057200-1777068000@shopriverpark.com
SUMMARY:Central Valley Astronomers Star Party
DESCRIPTION:The Central Valley Astronomers will be presenting Sidewalk Astronomy to the public. Come to the Plaza at RiverPark to view and take a picture of the Moon\, observe the planets\, and learn more about the night sky from our astronomy members.
URL:https://shopriverpark.com/events/central-valley-astronomers-star-party-5/
LOCATION:River Park Shopping Center
CATEGORIES:Community,Family Fun,Outdoor
ATTACH;FMTTYPE=image/jpeg:https://shopriverpark.com/wp-content/uploads/2020/01/51253914_2079345085494402_2040210783878512640_n.jpg
END:VEVENT
END:VCALENDAR